BEGIN:VCALENDAR
VERSION:2.0
PRODID:-//USMG Gymnastique - ECPv4.6.3//NONSGML v1.0//EN
CALSCALE:GREGORIAN
METHOD:PUBLISH
X-WR-CALNAME:USMG Gymnastique
X-ORIGINAL-URL:https://usmg-gymnastique.fr
X-WR-CALDESC:Events for USMG Gymnastique
BEGIN:VEVENT
DTSTART;VALUE=DATE:20171108
DTEND;VALUE=DATE:20171109
DTSTAMP:20260425T130023
CREATED:20171108T115548Z
LAST-MODIFIED:20171108T115600Z
UID:644-1510099200-1510185599@usmg-gymnastique.fr
SUMMARY:Photos Club de gymnastique - Loisir
DESCRIPTION:Le club de gymnastique va effectuer des photos de vos gymnastes entre le 5 et 11 novembre. \nLa séance concernant la section loisir est le 8 novembre \nSi vous souhaitez que les frères et sœurs soient photographiés ensemble nous le préciser. \nVous pouvez\, si vous le désirez\, les habiller en justaucorps ou autre. \n
URL:https://usmg-gymnastique.fr/event/photos-club-de-gymnastique-loisir/
CATEGORIES:Loisir,Photos du club
END:VEVENT
END:VCALENDAR